BEGIN:VCALENDAR
VERSION:2.0
PRODID:icalendar-ruby
CALSCALE:GREGORIAN
METHOD:PUBLISH
BEGIN:VEVENT
DTSTAMP:20260421T190154Z
UID:315-534707@ptmidland.com
DTSTART:20260422T220000Z
DTEND:20260423T010000Z
CLASS:PUBLIC
CREATED:20260421T113321
DESCRIPTION:
LAST-MODIFIED:20260421T113321
LOCATION:
SUMMARY:Church Spring Cleaning
URL;VALUE=URI:https://ptmidland.com/events/church-spring-cleaning/2026-04-2
 2
ATTACH;FILENAME=cleaning.jpg;FMTTYPE=image/jpeg:https://dq5pwpg1q8ru0.cloud
 front.net/2026/04/21/15/33/21/114f8ab9-0998-430b-a45b-76bf84b8102c/cleanin
 g.jpg
END:VEVENT
END:VCALENDAR
