BEGIN:VCALENDAR
VERSION:2.0
PRODID:icalendar-ruby
CALSCALE:GREGORIAN
METHOD:PUBLISH
BEGIN:VEVENT
DTSTAMP:20260421T190326Z
UID:158-534587@ptmidland.com
DTSTART:20260423T223000Z
DTEND:20260423T233000Z
CLASS:PUBLIC
CREATED:20260421T113157
DESCRIPTION:
LAST-MODIFIED:20260421T113157
LOCATION:
SUMMARY:Music Practice
URL;VALUE=URI:https://ptmidland.com/events/music-practice--158/2026-04-23
ATTACH;FILENAME=music.jfif;FMTTYPE=image/jpeg:https://dq5pwpg1q8ru0.cloudfr
 ont.net/2025/05/02/17/31/46/be871e79-507f-48ca-b027-d3bd69edd14d/music.jfi
 f
END:VEVENT
END:VCALENDAR
